BEGIN:VCALENDAR
VERSION:2.0
PRODID:-//Skills Impact - ECPv6.15.15//NONSGML v1.0//EN
CALSCALE:GREGORIAN
METHOD:PUBLISH
X-ORIGINAL-URL:https://www.skillsimpact.com.au
X-WR-CALDESC:Events for Skills Impact
REFRESH-INTERVAL;VALUE=DURATION:PT1H
X-Robots-Tag:noindex
X-PUBLISHED-TTL:PT1H
BEGIN:VTIMEZONE
TZID:UTC
BEGIN:STANDARD
TZOFFSETFROM:+0000
TZOFFSETTO:+0000
TZNAME:UTC
DTSTART:20150101T000000
END:STANDARD
END:VTIMEZONE
BEGIN:VEVENT
DTSTART;TZID=UTC:20171116T153000
DTEND;TZID=UTC:20171116T170000
DTSTAMP:20260420T012331
CREATED:20171029T171544Z
LAST-MODIFIED:20171029T174727Z
UID:5172-1510846200-1510851600@www.skillsimpact.com.au
SUMMARY:Ag Pest Management & Chemical Handling Project Workshop - Darwin
DESCRIPTION:Skills Impact is hosting a face-to-face consultation workshop for the Ag Chemical Handling and Pest Management Projects to seek your feedback on draft revised units of competency\, skill sets and qualifications. \nThe Ag Chemical Handling Project will review and update units and skill sets for chemical handling\, to reflect current industry skills standards and practices\, so that all job functions are accurately described. \nThe Pest Management Project will review the Certificate III in Pest Management and the related skill set and units so that all job functions are accurately described\, with appropriate current knowledge and skill needs. \n  \nRegister your attendance \n  \n 
URL:https://www.skillsimpact.com.au/event/ag-pest-management-chemical-handling-project-workshop-darwin/
END:VEVENT
BEGIN:VEVENT
DTSTART;TZID=UTC:20171116T143000
DTEND;TZID=UTC:20171116T153000
DTSTAMP:20260420T012331
CREATED:20171029T180502Z
LAST-MODIFIED:20171029T180502Z
UID:5220-1510842600-1510846200@www.skillsimpact.com.au
SUMMARY:Ag Machinery - Safety and Technology Project Workshop - Darwin
DESCRIPTION:Skills Impact is hosting a face-to-face consultation workshop to seek your feedback on draft units of competency\, skill sets and qualifications relating to the use of new technology and safety measures across a range of mobile farm machinery operations. Please feel free to register your attendance. \n \nRegister your attendance \n\nVisit project webpage
URL:https://www.skillsimpact.com.au/event/ag-machinery-safety-technology-project-workshop-darwin/
END:VEVENT
BEGIN:VEVENT
DTSTART;TZID=UTC:20171116T093000
DTEND;TZID=UTC:20171116T123000
DTSTAMP:20260420T012331
CREATED:20171109T151147Z
LAST-MODIFIED:20171109T151147Z
UID:5740-1510824600-1510835400@www.skillsimpact.com.au
SUMMARY:Food Science and Technology Project Workshop - Brisbane
DESCRIPTION:Skills Impact is hosting a face-to-face consultation workshop to seek your feedback on draft qualifications\, skill sets and units of competency relating within the FBP Food\, Beverage and Pharmaceutical Training Package. Please feel free to register your attendance. \n \nRegister your attendance \n\nVisit project webpage \n\n 
URL:https://www.skillsimpact.com.au/event/food-science-technology-project-workshop-brisbane/
END:VEVENT
BEGIN:VEVENT
DTSTART;TZID=UTC:20171115T090000
DTEND;TZID=UTC:20171115T120000
DTSTAMP:20260420T012331
CREATED:20171109T151038Z
LAST-MODIFIED:20171109T151038Z
UID:5737-1510736400-1510747200@www.skillsimpact.com.au
SUMMARY:Food Science and Technology Project Workshop - Sydney
DESCRIPTION:Skills Impact is hosting a face-to-face consultation workshop to seek your feedback on draft qualifications\, skill sets and units of competency relating within the FBP Food\, Beverage and Pharmaceutical Training Package. Please feel free to register your attendance. \n \nRegister your attendance \n\nVisit project webpage \n\n 
URL:https://www.skillsimpact.com.au/event/food-science-technology-project-workshop-sydney/
END:VEVENT
BEGIN:VEVENT
DTSTART;TZID=UTC:20171114T153000
DTEND;TZID=UTC:20171114T173000
DTSTAMP:20260420T012331
CREATED:20171029T171415Z
LAST-MODIFIED:20171029T172056Z
UID:5169-1510673400-1510680600@www.skillsimpact.com.au
SUMMARY:Ag Chemical Handling Project Workshop - Perth
DESCRIPTION:Skills Impact is hosting a face-to-face consultation workshop to seek your feedback on draft revised units of competency and skill sets for chemical handling. Please feel free to register your attendance. \n \nRegister your attendance \n\nVisit project webpage \n\n 
URL:https://www.skillsimpact.com.au/event/ag-chemical-handling-project-workshop-perth/
END:VEVENT
BEGIN:VEVENT
DTSTART;TZID=UTC:20171114T130000
DTEND;TZID=UTC:20171114T150000
DTSTAMP:20260420T012331
CREATED:20171029T173645Z
LAST-MODIFIED:20171029T173645Z
UID:5190-1510664400-1510671600@www.skillsimpact.com.au
SUMMARY:Pest Management Project Workshop - Perth
DESCRIPTION:Skills Impact is hosting a face-to-face consultation workshop to seek your feedback on the revised draft Certificate III in Pest Management\, skill set and units so that all job functions are accurately described\, with appropriate current knowledge and skill needs. Please feel free to register your attendance. \n \nRegister your attendance \n\nVisit project webpage
URL:https://www.skillsimpact.com.au/event/pest-management-project-workshop-perth/
END:VEVENT
BEGIN:VEVENT
DTSTART;TZID=UTC:20171114T103000
DTEND;TZID=UTC:20171114T123000
DTSTAMP:20260420T012331
CREATED:20171029T175500Z
LAST-MODIFIED:20171029T175500Z
UID:5205-1510655400-1510662600@www.skillsimpact.com.au
SUMMARY:Apiculture (Bees) Project Workshop - Perth
DESCRIPTION:Skills Impact is hosting a face-to-face consultation workshop to seek your feedback on the draft units of competency and the qualification in bee keeping. Please feel free to register your attendance. \nThis project will improve and update units and the qualification in bee keeping so that all job functions are accurately described\, with appropriate current knowledge and skill needs \n \nRegister your attendance \n\nVisit project webpage
URL:https://www.skillsimpact.com.au/event/apiculture-bees-project-workshop-perth/
END:VEVENT
BEGIN:VEVENT
DTSTART;TZID=UTC:20171114T090000
DTEND;TZID=UTC:20171114T120000
DTSTAMP:20260420T012331
CREATED:20171109T150936Z
LAST-MODIFIED:20171109T150936Z
UID:5734-1510650000-1510660800@www.skillsimpact.com.au
SUMMARY:Food Science and Technology Project Workshop - East Melbourne
DESCRIPTION:Skills Impact is hosting a face-to-face consultation workshop to seek your feedback on draft qualifications\, skill sets and units of competency relating within the FBP Food\, Beverage and Pharmaceutical Training Package. Please feel free to register your attendance. \n \nRegister your attendance \n\nVisit project webpage \n\n 
URL:https://www.skillsimpact.com.au/event/food-science-technology-project-workshop-east-melbourne/
END:VEVENT
BEGIN:VEVENT
DTSTART;TZID=UTC:20171114T080000
DTEND;TZID=UTC:20171114T100000
DTSTAMP:20260420T012331
CREATED:20171029T180414Z
LAST-MODIFIED:20171029T180414Z
UID:5218-1510646400-1510653600@www.skillsimpact.com.au
SUMMARY:Ag Machinery - Safety and Technology Project Workshop - Perth
DESCRIPTION:Skills Impact is hosting a face-to-face consultation workshop to seek your feedback on draft units of competency\, skill sets and qualifications relating to the use of new technology and safety measures across a range of mobile farm machinery operations. Please feel free to register your attendance. \n \nRegister your attendance \n\nVisit project webpage
URL:https://www.skillsimpact.com.au/event/ag-machinery-safety-technology-project-workshop-perth/
END:VEVENT
BEGIN:VEVENT
DTSTART;TZID=UTC:20171113T130000
DTEND;TZID=UTC:20171113T160000
DTSTAMP:20260420T012331
CREATED:20171109T150639Z
LAST-MODIFIED:20171109T150639Z
UID:5731-1510578000-1510588800@www.skillsimpact.com.au
SUMMARY:Food Science and Technology Project Workshop - North Melbourne
DESCRIPTION:Skills Impact is hosting a face-to-face consultation workshop to seek your feedback on draft qualifications\, skill sets and units of competency relating within the FBP Food\, Beverage and Pharmaceutical Training Package. Please feel free to register your attendance. \n \nRegister your attendance \n\nVisit project webpage \n\n 
URL:https://www.skillsimpact.com.au/event/food-science-technology-project-workshop-north-melbourne/
END:VEVENT
BEGIN:VEVENT
DTSTART;TZID=UTC:20171109T130000
DTEND;TZID=UTC:20171109T150000
DTSTAMP:20260420T012331
CREATED:20171029T141439Z
LAST-MODIFIED:20171029T143254Z
UID:5141-1510232400-1510239600@www.skillsimpact.com.au
SUMMARY:Ag Chemical Handling Project Workshop - Adelaide
DESCRIPTION:Skills Impact is hosting a face-to-face consultation workshop to seek your feedback on draft revised units of competency and skill sets for chemical handling. Please feel free to register your attendance. \n \nRegister your attendance \n\nVisit project webpage \n\n 
URL:https://www.skillsimpact.com.au/event/ag-chemical-handling-project-workshop-adelaide/
END:VEVENT
BEGIN:VEVENT
DTSTART;TZID=UTC:20171109T103000
DTEND;TZID=UTC:20171109T123000
DTSTAMP:20260420T012331
CREATED:20171029T173543Z
LAST-MODIFIED:20171029T173543Z
UID:5188-1510223400-1510230600@www.skillsimpact.com.au
SUMMARY:Pest Management Project Workshop - Adelaide
DESCRIPTION:Skills Impact is hosting a face-to-face consultation workshop to seek your feedback on the revised draft Certificate III in Pest Management\, skill set and units so that all job functions are accurately described\, with appropriate current knowledge and skill needs. Please feel free to register your attendance. \n \nRegister your attendance \n\nVisit project webpage
URL:https://www.skillsimpact.com.au/event/pest-management-project-workshop-adelaide/
END:VEVENT
BEGIN:VEVENT
DTSTART;TZID=UTC:20171109T080000
DTEND;TZID=UTC:20171109T100000
DTSTAMP:20260420T012331
CREATED:20171029T180934Z
LAST-MODIFIED:20171029T180934Z
UID:5217-1510214400-1510221600@www.skillsimpact.com.au
SUMMARY:Ag Machinery - Safety and Technology Project Workshop - Adelaide
DESCRIPTION:Skills Impact is hosting a face-to-face consultation workshop to seek your feedback on draft units of competency\, skill sets and qualifications relating to the use of new technology and safety measures across a range of mobile farm machinery operations. Please feel free to register your attendance. \n \nRegister your attendance \n\nVisit project webpage
URL:https://www.skillsimpact.com.au/event/ag-machinery-safety-technology-project-workshop-adelaide/
END:VEVENT
BEGIN:VEVENT
DTSTART;TZID=UTC:20171109T080000
DTEND;TZID=UTC:20171109T100000
DTSTAMP:20260420T012331
CREATED:20171029T175403Z
LAST-MODIFIED:20171029T175403Z
UID:5203-1510214400-1510221600@www.skillsimpact.com.au
SUMMARY:Apiculture (Bees) Project Workshop - Adelaide
DESCRIPTION:Skills Impact is hosting a face-to-face consultation workshop to seek your feedback on the draft units of competency and the qualification in bee keeping. Please feel free to register your attendance. \nThis project will improve and update units and the qualification in bee keeping so that all job functions are accurately described\, with appropriate current knowledge and skill needs \n \nRegister your attendance \n\nVisit project webpage
URL:https://www.skillsimpact.com.au/event/apiculture-bees-project-workshop-adelaide/
END:VEVENT
BEGIN:VEVENT
DTSTART;VALUE=DATE:20170914
DTEND;VALUE=DATE:20170916
DTSTAMP:20260420T012331
CREATED:20170809T145500Z
LAST-MODIFIED:20170809T145603Z
UID:4023-1505347200-1505519999@www.skillsimpact.com.au
SUMMARY:Velg 2017 National VET Conference
DESCRIPTION:The 2017 National VET Conference will be delivered over two days on the 14-15 September at the International Convention Centre Sydney (ICC Sydney)  through an exciting range of presentations\, providing attendees the opportunity to engage in a wide variety of plenary and elective sessions. \nThe theme for the two day conference is ‘Building Quality in VET’ and will focus on multiple streams including; Policy & Reform\, RTO Management & Compliance\, Training & Assessing\, RTO Administration and Master Classes. \nDelegates will be exposed to informative presenters and a wide variety of topics\, opportunities to meet with product and service providers and network with peers from across Australia. \nSkills Impact is proud to be an exhibitor at this event.
URL:https://www.skillsimpact.com.au/event/2017-national-vet-conference/
LOCATION:14 Darling Dr\, Sydney\, NSW 2009  \, 14 Darling Dr\, Sydney\, NSW\, 2009\, Australia
ORGANIZER;CN="Velg Training":MAILTO:enquiries@velgtraining.com
END:VEVENT
BEGIN:VEVENT
DTSTART;TZID=UTC:20170913T090000
DTEND;TZID=UTC:20170915T113000
DTSTAMP:20260420T012331
CREATED:20170402T145301Z
LAST-MODIFIED:20170402T145301Z
UID:2649-1505293200-1505475000@www.skillsimpact.com.au
SUMMARY:Capital Conversations - National Providers Network Conference
DESCRIPTION:The National Training Providers Network is a group of training practitioners that deliver the agrifood\, agriculture\, horticulture and conservation and land management (AHC) training package. \nThe 2017 AHC annual conference will be held at Canberra Institute of Technology. The conference provides attendees with an excellent opportunity to: \n\ndiscuss the recent changes to the national AHC training package; meet and network with\nprofessionals within the sector;\ngain updates on the latest developments from Skills Impact\, the Service Skills Organisation (SSO);\nmaintain currency within both the vocational education and specific industry sectors;\ninvestigate new ideas and technologies through local field trips and industry presentations;\nbrainstorm ideas to meet the challenges of working in the VET environment;\nvalidate training products and assessment methodologies.\n\nDownload flyer for more information.
URL:https://www.skillsimpact.com.au/event/capital-conversations-national-providers-network-conference/
LOCATION:Canberra Institute of Technology\, CIT Reid\, K Block Restaurant\, 37 Constitution Avenue\,\, Reid\, ACT\, Australia
END:VEVENT
BEGIN:VEVENT
DTSTART;VALUE=DATE:20170907
DTEND;VALUE=DATE:20170909
DTSTAMP:20260420T012331
CREATED:20170410T142742Z
LAST-MODIFIED:20170410T142742Z
UID:2794-1504742400-1504915199@www.skillsimpact.com.au
SUMMARY:TAFE Directors Australia Convention 2017
DESCRIPTION:The TAFE Directors Australia Convention 2017 is the annual showcase for Australian public providers of vocational education and training (VET) courses. The TDA Convention is a ‘must attend’ for all vocational education and training chief executives and their senior managers\, merging leaders\, international education practitioners\, researchers as well as many federal and state government officials and others involved in vocational education and training. The convention usually attracts over 400 delegates and has many informal opportunities to make contact with education and government leaders\, in addition to the impressive structured program. For further information about the TDA 2017 convention\, visit www.tda.edu.au. \nThe 2017 TAFE Directors Australia Convention to be held in Adelaide on 7 & 8 September is providing an opportunity for you to showcase the work of your organisation via market place sessions. You have an opportunity to present your ideas\, your successes\, your challenges\, to gain some feedback and potentially find like-minded practitioners as\, partners and collaborators. Presenter delegates are entitled to register at 60% of the normal registration fee. The call for market place proposals closes on 1 May.
URL:https://www.skillsimpact.com.au/event/tafe-directors-australia-convention-2017/
LOCATION:Hilton Adelaide\, 233 Victoria Square\, Adelaide \, SA\, 5000\, Australia
ORGANIZER;CN="TAFE Directors Australia":MAILTO:wfcp2018@pco.com.au
END:VEVENT
BEGIN:VEVENT
DTSTART;VALUE=DATE:20170705
DTEND;VALUE=DATE:20170708
DTSTAMP:20260420T012331
CREATED:20170504T195606Z
LAST-MODIFIED:20170504T200008Z
UID:2983-1499212800-1499471999@www.skillsimpact.com.au
SUMMARY:26th National VET Research Conference 'No Frills'
DESCRIPTION:Register now for the 26th National Vocational Education and Training Research Conference ‘No Frills’\, to be held 5 – 7 July 2017\, at TasTAFE Drysdale Campus in Hobart\, Tasmania. \n‘No Frills’ is a well-known annual national conference where researchers and those engaged in the VET industry come together to discuss key issues\, and network in a relaxed and informal atmosphere. \nThe engaging program features over 50 presentation and poster sessions\, highlighting work across three research themes: \n\nExplore: gaining a better understanding of education\, training and employment\, the people involved and interactions between these systems.\nTranslate: applying knowledge about education and training to improve practice\, quality and outcomes.\nEvolve: addressing the opportunities and challenges ahead to transform the sector to better meet future skill needs.\n\nThe National Centre for Vocational Education Research (NCVER) is delighted to co-host this year’s conference with TasTAFE.
URL:https://www.skillsimpact.com.au/event/26th-national-vet-research-conference-no-frills/
LOCATION:TasTAFE – Drysdale Campus\, 59 Collins Street\, Hobart\, TAS\, 7000\, Australia
ORGANIZER;CN="National Centre for Vocational Education Research (NCVER)":MAILTO:ncver@ncver.edu.au
END:VEVENT
BEGIN:VEVENT
DTSTART;VALUE=DATE:20170620
DTEND;VALUE=DATE:20170623
DTSTAMP:20260420T012331
CREATED:20170425T160053Z
LAST-MODIFIED:20170425T160053Z
UID:2909-1497916800-1498175999@www.skillsimpact.com.au
SUMMARY:The Baking Industry Trade Show Conference
DESCRIPTION:2017 will play host to the first annual Baking Industry Trade Show and National Conference – a trade show and conference designed specifically for the Australian Baking Industry and the issues surrounding our industry. \nColin Abbott\, Industry Skills Facilitation Manager from Skills Impact\, along with key industry panellists will speak at the conference about projects underway to improve baking qualifications and competency skills standards. \nVisit the event website to find out more and to register.
URL:https://www.skillsimpact.com.au/event/baking-industry-trade-show-conference/
LOCATION:Moonee Valley Events Centre/ Racecourse\, 1 McPherson St\, Moonee Ponds \, VIC \, 3039\, Australia
END:VEVENT
BEGIN:VEVENT
DTSTART;VALUE=DATE:20170330
DTEND;VALUE=DATE:20170401
DTSTAMP:20260420T012331
CREATED:20170320T151946Z
LAST-MODIFIED:20170320T152234Z
UID:2534-1490832000-1491004799@www.skillsimpact.com.au
SUMMARY:2017 Quad Bike Safety Forum
DESCRIPTION:The Forum will cover all aspects of Quad Bike Safety over two days. Day one will focus on Safety. Helmet laws\, Available Safety Products\, Kids on Full Size Bikes\, Coronial Findings\, Duty of Care\, Inductions and Safety Culture will all be part of the conversation. \nDay two will see the focus shift to Quad Bike Training. Accredited and Non-Accredited training will be discussed in depth and the findings/outcomes from this consultation will be collected and used to improve the content/relevance of the current unit of competency “ACHMOM212 Operate Quad Bikes”. \nFor full details or to register\, please click here to visit the event website.
URL:https://www.skillsimpact.com.au/event/2017-quad-bike-safety-forum/
LOCATION:Cairns Convention Centre\, Sheridan St & Wharf St\, Cairns City \, QLD\, 4870\, Australia
END:VEVENT
BEGIN:VEVENT
DTSTART;TZID=UTC:20170328T090000
DTEND;TZID=UTC:20170331T170000
DTSTAMP:20260420T012331
CREATED:20170306T142346Z
LAST-MODIFIED:20170306T142418Z
UID:2376-1490691600-1490979600@www.skillsimpact.com.au
SUMMARY:Veterinary Nurses Council of Australia (VNCA) Conference
DESCRIPTION:‘Let your career take flight’ from 29-31 March at the VNCA Conference 2017. Registrations are now open. \nSkills Impact will present on the 29 March\, from 4 – 5pm\, providing an update on the ACM Veterinary Nursing Qualification.
URL:https://www.skillsimpact.com.au/event/vnca-conference/
LOCATION:ICC Sydney\, 14 Darling Dr\, Sydney \, NSW\, 2009\, Australia
END:VEVENT
BEGIN:VEVENT
DTSTART;TZID=UTC:20170327T080000
DTEND;TZID=UTC:20170421T170000
DTSTAMP:20260420T012331
CREATED:20170402T143626Z
LAST-MODIFIED:20170402T143626Z
UID:2646-1490601600-1492794000@www.skillsimpact.com.au
SUMMARY:Fellowships Available
DESCRIPTION:The International Specialised Skills Institute (ISS Institute) has just made eight Fellowships available. Fellowships cover the areas of: environment and sustainability; alternative energy; education; heritage and conservation; heavy construction materials (concrete and/or quarrying); and\, the wide agribusiness industry. \nEach Fellowship provides the successful applicant with funding to travel overseas and conduct applied research into a topic that will benefit their career and drive innovation in the sector they care about. Fellowship funding ranges from $10\,000 – $12\,500 per each Fellowship. \nFellowships are open to Australian residents located anywhere in Australia and open to anyone aged 18 years and over\, with the exception of The George Alexander Foundation Fellowships which are only open to those aged between 18 and 35 years. \nFurther information is available at www.issinstitute.org.au/fellowships/fellowships-available and applications close on the 28th of April.
URL:https://www.skillsimpact.com.au/event/fellowships-available/
ORGANIZER;CN="International Specialised Skills Institute":MAILTO:info@issinstitute.org.au
END:VEVENT
BEGIN:VEVENT
DTSTART;TZID=UTC:20170314T080000
DTEND;TZID=UTC:20170510T170000
DTSTAMP:20260420T012331
CREATED:20170403T183714Z
LAST-MODIFIED:20170528T140619Z
UID:2671-1489478400-1494435600@www.skillsimpact.com.au
SUMMARY:Australian Training Awards
DESCRIPTION:Since 1994\, the Australian Training Awards are the peak\, national awards for the vocational education and training (VET) sector\, recognising individuals businesses and registered training organisations for their contribution to skilling Australia. \nThe direct entry categories of the 2017 Australian Training Awards are open for application and include: \n \nThe 2017 Australian Training Awards are open for application now and include: \nIndividual \n\nLifetime Achievement Award\nNational Achievement Award\nExcellence in Language\, Literacy and Numeracy Practice Award\n\nBusiness \n\nSmall Employer of the Year Award\nAustralian Apprenticeships – Employer Award\n\nRegistered Training Organisation \n\nSchool Pathways to VET Award\nInternational Training Provider of the Year Award\n\n\n \n\nHow to apply\nEnter directly to the Australian Training Awards by completing the nomination from the website. Applications close Wednesday 31 May 2017. \nFor more information\nFor more information\, visit www.australiantrainingawards.gov.au\, email australiantrainingawards@education.gov.au or phone 02 6240 9691. \nThis year the Australian Training Awards will be held in Canberra in November. For real time updates you can find the Australian Training Awards on social media: \n\nTwitter\n\n\nFacebook\n\n\nLinkedIn\n\n\nYoutube\n\n 
URL:https://www.skillsimpact.com.au/event/australian-training-awards/
END:VEVENT
BEGIN:VEVENT
DTSTART;TZID=UTC:20161212T080000
DTEND;TZID=UTC:20161214T170000
DTSTAMP:20260420T012331
CREATED:20160517T013845Z
LAST-MODIFIED:20160524T183609Z
UID:1130-1481529600-1481734800@www.skillsimpact.com.au
SUMMARY:Appita Fibre Value Chain Conference & Expo
DESCRIPTION:Date: 12-14 October 2016 \nLocation: Distinction Hotel\, 390 Fenton Street\, Rotorua\, New Zealand \nSkills Impact is proud to support this event which offers the opportunity for Australasian suppliers\, researchers\, experts and manufacturers to reach and network with key industry stakeholders. \nAppita welcomes submissions for presentations at the conference. Submissions can cover a broad range of topics relating to pulp\, paper\, board and wood as well as bioenergy\, biofuels and bio-products. \nFor further information regarding the 2016 Call for Papers\, important dates and Submission Guidelines please click here.
URL:https://www.skillsimpact.com.au/event/appita-fibre-value-chain-conference-expo/
LOCATION:Distinction Hotel\, 390 Fenton Street\, Rotorua\, New Zealand\, Rotorua\, New Zealand
END:VEVENT
BEGIN:VEVENT
DTSTART;TZID=UTC:20161026T073000
DTEND;TZID=UTC:20161027T170000
DTSTAMP:20260420T012331
CREATED:20161005T115303Z
LAST-MODIFIED:20161005T115303Z
UID:1730-1477467000-1477587600@www.skillsimpact.com.au
SUMMARY:The National Farmers’ Federation (NFF) National Congress 2016
DESCRIPTION:
URL:https://www.skillsimpact.com.au/event/national-farmers-federation-nff-national-congress-2016/
LOCATION:AIS Arena\, Leverrier Street \, Bruce\, ACT\, 2617\, Australia
END:VEVENT
BEGIN:VEVENT
DTSTART;VALUE=DATE:20161019
DTEND;VALUE=DATE:20161021
DTSTAMP:20260420T012331
CREATED:20161016T175953Z
LAST-MODIFIED:20161016T175953Z
UID:1758-1476835200-1477007999@www.skillsimpact.com.au
SUMMARY:Meat Inspection & Quality Assurance Conference
DESCRIPTION:
URL:https://www.skillsimpact.com.au/event/meat-inspection-quality-assurance-conference/
LOCATION:Mercure Gold Coast Resort\, 64 Palm Meadows Dr\, Carrara \, QLD\, 4211\, Australia
END:VEVENT
BEGIN:VEVENT
DTSTART;TZID=UTC:20160915T080000
DTEND;TZID=UTC:20160915T080000
DTSTAMP:20260420T012331
CREATED:20160516T203103Z
LAST-MODIFIED:20160524T182703Z
UID:1125-1473926400-1473926400@www.skillsimpact.com.au
SUMMARY:National VET Conference - Velg Training
DESCRIPTION:Date: Thursday 15 September 2016 \nLocation: Gold Coast Convention & Exhibition Centre \nThe theme for this year’s conference is ‘Celebrating VET’ and will focus on multiple streams including: Policy & Reform; RTO Management & Compliance; Training & Assessing; VET Shapers; and eLearning. \nA wide variety of speakers will present at the event\, including Michael Hartman\, CEO of Skills Impact. \nDelegates will also have opportunities to meet with product and service providers and network with peers from across Australia. \nFor more information or to register\, visit the Velg Training website
URL:https://www.skillsimpact.com.au/event/national-vet-conference-velg-training/
LOCATION:Gold Coast Convention & Exhibition Centre\, Gold Coast \, Queensland\, Australia
END:VEVENT
BEGIN:VEVENT
DTSTART;TZID=UTC:20160809T090000
DTEND;TZID=UTC:20160809T160000
DTSTAMP:20260420T012331
CREATED:20160620T191019Z
LAST-MODIFIED:20160620T192837Z
UID:1349-1470733200-1470758400@www.skillsimpact.com.au
SUMMARY:Veterinary Nurse Educators Forum 2016
DESCRIPTION:
URL:https://www.skillsimpact.com.au/event/veterinary-nurse-educators-forum-2016-2/
END:VEVENT
BEGIN:VEVENT
DTSTART;TZID=UTC:20160808T093000
DTEND;TZID=UTC:20160808T170000
DTSTAMP:20260420T012331
CREATED:20160620T190908Z
LAST-MODIFIED:20160620T192935Z
UID:1347-1470648600-1470675600@www.skillsimpact.com.au
SUMMARY:Veterinary Nurse Educators Forum 2016
DESCRIPTION:
URL:https://www.skillsimpact.com.au/event/veterinary-nurse-educators-forum-2016/
END:VEVENT
BEGIN:VEVENT
DTSTART;TZID=UTC:20160725T070000
DTEND;TZID=UTC:20160728T120000
DTSTAMP:20260420T012331
CREATED:20160719T194324Z
LAST-MODIFIED:20160719T194324Z
UID:1440-1469430000-1469707200@www.skillsimpact.com.au
SUMMARY:Australian Timber Trainers Association (ATTA) Workshop
DESCRIPTION:
URL:https://www.skillsimpact.com.au/event/australian-timber-trainers-association-atta-workshop/
END:VEVENT
END:VCALENDAR